BEGIN:VCALENDAR
VERSION:2.0
PRODID:-//empowercdc.org//NONSGML kigkonsult.se iCalcreator 2.30.10//
CALSCALE:GREGORIAN
METHOD:PUBLISH
UID:7d93dfda-299d-468b-b580-77ebbd1d4c41
X-WR-CALDESC:Financial Planning: Dollars & Sense\n\n*Resident only event*
X-WR-RELCALID:d74aa64b647204f91342b32119d5e9c0
X-WR-TIMEZONE:America/Chicago
BEGIN:VTIMEZONE
TZID:America/Chicago
BEGIN:STANDARD
TZNAME:CST
DTSTART:20231105T020000
TZOFFSETFROM:-0500
TZOFFSETTO:-0600
RDATE:20241103T020000
RDATE:20251102T020000
END:STANDARD
BEGIN:DAYLIGHT
TZNAME:CDT
DTSTART:20240310T020000
TZOFFSETFROM:-0600
TZOFFSETTO:-0500
RDATE:20250309T020000
END:DAYLIGHT
END:VTIMEZONE
BEGIN:VEVENT
UID:3461530a-a195-4a34-8c68-e53e0f4a5f82
DTSTAMP:20260422T221202Z
DESCRIPTION:Financial Planning: Dollars & Sense\n\n*Resident only event*
DTSTART;TZID=America/Chicago:20240627T140000
DTEND;TZID=America/Chicago:20240627T160000
LOCATION:6725 Brittmoore Rd\, Houston\, TX 77041 US
SUMMARY:Brittmoore: Financial Planning
END:VEVENT
END:VCALENDAR
