BEGIN:VCALENDAR
VERSION:2.0
PRODID:-//empowercdc.org//NONSGML kigkonsult.se iCalcreator 2.30.10//
CALSCALE:GREGORIAN
METHOD:PUBLISH
UID:4518b411-a9d3-4ff3-a4bf-589870f1625e
X-WR-CALDESC:Food Pantry\n\n*Resident only event*
X-WR-RELCALID:6dfee7f0355c084ab74b28b817741f1e
X-WR-TIMEZONE:America/Chicago
BEGIN:VTIMEZONE
TZID:America/Chicago
BEGIN:STANDARD
TZNAME:CST
DTSTART:20231105T020000
TZOFFSETFROM:-0500
TZOFFSETTO:-0600
RDATE:20241103T020000
RDATE:20251102T020000
END:STANDARD
BEGIN:DAYLIGHT
TZNAME:CDT
DTSTART:20240310T020000
TZOFFSETFROM:-0600
TZOFFSETTO:-0500
RDATE:20250309T020000
END:DAYLIGHT
END:VTIMEZONE
BEGIN:VEVENT
UID:7ad202b9-d012-4447-a2b7-d3c85278de89
DTSTAMP:20260422T222930Z
DESCRIPTION:Food Pantry\n\n*Resident only event*
DTSTART;TZID=America/Chicago:20240625T133000
DTEND;TZID=America/Chicago:20240625T153000
LOCATION:6725 Brittmoore Rd\, Houston\, TX 77041 US
SUMMARY:Brittmoore: Food Pantry
END:VEVENT
END:VCALENDAR
