BEGIN:VCALENDAR
VERSION:2.0
PRODID:-//empowercdc.org//NONSGML kigkonsult.se iCalcreator 2.30.10//
CALSCALE:GREGORIAN
METHOD:PUBLISH
UID:54af7590-6550-4e86-bfeb-32c933543eed
X-WR-CALDESC:EXERCISE\nTai Chi\n@ 2:00PM\n\nARTS & CRAFTS\nPainting w/ a Tw
 ist\n@ 3:00PM\n\n*Resident only event*
X-WR-RELCALID:31d3d64c55710fb9461f33a4a6a7c501
X-WR-TIMEZONE:America/Chicago
BEGIN:VTIMEZONE
TZID:America/Chicago
BEGIN:STANDARD
TZNAME:CST
DTSTART:20231105T020000
TZOFFSETFROM:-0500
TZOFFSETTO:-0600
RDATE:20241103T020000
RDATE:20251102T020000
END:STANDARD
BEGIN:DAYLIGHT
TZNAME:CDT
DTSTART:20240310T020000
TZOFFSETFROM:-0600
TZOFFSETTO:-0500
RDATE:20250309T020000
END:DAYLIGHT
END:VTIMEZONE
BEGIN:VEVENT
UID:d647133a-4c15-4e44-87f6-ad4b3a577ec0
DTSTAMP:20260422T220321Z
DESCRIPTION:EXERCISE\nTai Chi\n@ 2:00PM\n\nARTS & CRAFTS\nPainting w/ a Twi
 st\n@ 3:00PM\n\n*Resident only event*
DTSTART;TZID=America/Chicago:20240618T140000
DTEND;TZID=America/Chicago:20240618T163000
LOCATION:6725 Brittmoore Rd\, Houston\, TX 77041 US
SUMMARY:Brittmoore: Exercise\, Arts & Crafts
END:VEVENT
END:VCALENDAR
