BEGIN:VCALENDAR
VERSION:2.0
PRODID:-//empowercdc.org//NONSGML kigkonsult.se iCalcreator 2.30.10//
CALSCALE:GREGORIAN
METHOD:PUBLISH
UID:27589179-829b-4c10-a127-7f271b124d4a
X-WR-CALDESC:Pre-Father’s Day Social Hour\n\n*Resident only event*
X-WR-RELCALID:65f7a8c475ecd6dda29d147e812a7be2
X-WR-TIMEZONE:America/Chicago
BEGIN:VTIMEZONE
TZID:America/Chicago
BEGIN:STANDARD
TZNAME:CST
DTSTART:20231105T020000
TZOFFSETFROM:-0500
TZOFFSETTO:-0600
RDATE:20241103T020000
RDATE:20251102T020000
END:STANDARD
BEGIN:DAYLIGHT
TZNAME:CDT
DTSTART:20240310T020000
TZOFFSETFROM:-0600
TZOFFSETTO:-0500
RDATE:20250309T020000
END:DAYLIGHT
END:VTIMEZONE
BEGIN:VEVENT
UID:c38b3cf5-998c-4c5b-9e81-e2a09d8eb2e5
DTSTAMP:20260422T223028Z
DESCRIPTION:Pre-Father’s Day Social Hour\n\n*Resident only event*
DTSTART;TZID=America/Chicago:20240613T140000
DTEND;TZID=America/Chicago:20240613T160000
LOCATION:16101 Imperial Valley Dr\, Houston\, TX 77060 US
SUMMARY:Brittmoore: Pre-Father’s Day Social Hour
END:VEVENT
END:VCALENDAR
