BEGIN:VCALENDAR
VERSION:2.0
PRODID:-//empowercdc.org//NONSGML kigkonsult.se iCalcreator 2.30.10//
CALSCALE:GREGORIAN
METHOD:PUBLISH
UID:2b08b88f-20f0-4daf-9f99-e588c3bb006a
X-WR-CALDESC:Residents will be working on varies art activities.\n\n*Reside
 nt only event*
X-WR-RELCALID:10a5aa4665a43dacdc69d96d6ee46609
X-WR-TIMEZONE:America/Chicago
BEGIN:VTIMEZONE
TZID:America/Chicago
BEGIN:STANDARD
TZNAME:CST
DTSTART:20231105T020000
TZOFFSETFROM:-0500
TZOFFSETTO:-0600
RDATE:20241103T020000
RDATE:20251102T020000
END:STANDARD
BEGIN:DAYLIGHT
TZNAME:CDT
DTSTART:20240310T020000
TZOFFSETFROM:-0600
TZOFFSETTO:-0500
RDATE:20250309T020000
END:DAYLIGHT
END:VTIMEZONE
BEGIN:VEVENT
UID:e04763bc-0290-4d63-b59a-297bfe646646
DTSTAMP:20260422T222622Z
DESCRIPTION:Residents will be working on varies art activities.\n\n*Residen
 t only event*
DTSTART;TZID=America/Chicago:20240611T140000
DTEND;TZID=America/Chicago:20240611T160000
LOCATION:16101 Imperial Valley Dr\, Houston\, TX 77060 US
SUMMARY:Brittmoore: Arts & Crafts
END:VEVENT
END:VCALENDAR
