BEGIN:VCALENDAR
VERSION:2.0
PRODID:-//empowercdc.org//NONSGML kigkonsult.se iCalcreator 2.30.10//
CALSCALE:GREGORIAN
METHOD:PUBLISH
UID:144563d3-19d9-4cc3-a5cb-ac6238f8bb94
X-WR-CALDESC:
X-WR-RELCALID:97885fb2f24a829af430950f1f32506a
X-WR-TIMEZONE:America/Chicago
BEGIN:VTIMEZONE
TZID:America/Chicago
BEGIN:STANDARD
TZNAME:CST
DTSTART:20231105T020000
TZOFFSETFROM:-0500
TZOFFSETTO:-0600
RDATE:20241103T020000
RDATE:20251102T020000
END:STANDARD
BEGIN:DAYLIGHT
TZNAME:CDT
DTSTART:20240310T020000
TZOFFSETFROM:-0600
TZOFFSETTO:-0500
RDATE:20250309T020000
END:DAYLIGHT
END:VTIMEZONE
BEGIN:VEVENT
UID:e40ff4b8-9b12-44bc-9d0f-08f8a2166b86
DTSTAMP:20260423T001225Z
DESCRIPTION:
DTSTART;TZID=America/Chicago:20240531T153000
DTEND;TZID=America/Chicago:20240531T170000
LOCATION:6725 Brittmoore Rd\, Houston\, TX 77041 US
SUMMARY:Exercise: Tai Chi
END:VEVENT
END:VCALENDAR
