BEGIN:VCALENDAR
VERSION:2.0
PRODID:-//empowercdc.org//NONSGML kigkonsult.se iCalcreator 2.30.10//
CALSCALE:GREGORIAN
METHOD:PUBLISH
UID:5164697e-e1ac-4592-aa22-b501a2ad128c
X-WR-CALDESC:
X-WR-RELCALID:898cb6c69253ef659f2eddfd4573ae07
X-WR-TIMEZONE:America/Chicago
BEGIN:VTIMEZONE
TZID:America/Chicago
BEGIN:STANDARD
TZNAME:CST
DTSTART:20231105T020000
TZOFFSETFROM:-0500
TZOFFSETTO:-0600
RDATE:20241103T020000
RDATE:20251102T020000
END:STANDARD
BEGIN:DAYLIGHT
TZNAME:CDT
DTSTART:20240310T020000
TZOFFSETFROM:-0600
TZOFFSETTO:-0500
RDATE:20250309T020000
END:DAYLIGHT
END:VTIMEZONE
BEGIN:VEVENT
UID:40f0e475-0faa-45e1-ac87-72c9ed047b5b
DTSTAMP:20260423T000745Z
DESCRIPTION:
DTSTART;TZID=America/Chicago:20240528T110000
DTEND;TZID=America/Chicago:20240528T120000
LOCATION:6725 Brittmoore Rd\, Houston\, TX 77041 US
SUMMARY:Food Pantry
END:VEVENT
END:VCALENDAR
