BEGIN:VCALENDAR
VERSION:2.0
PRODID:-//empowercdc.org//NONSGML kigkonsult.se iCalcreator 2.30.10//
CALSCALE:GREGORIAN
METHOD:PUBLISH
UID:09355a99-2d4b-4230-bd55-7dbd8df95d4d
X-WR-CALDESC:
X-WR-RELCALID:e803f2d884b975128fcf8b43b446152e
X-WR-TIMEZONE:America/Chicago
BEGIN:VTIMEZONE
TZID:America/Chicago
BEGIN:STANDARD
TZNAME:CST
DTSTART:20231105T020000
TZOFFSETFROM:-0500
TZOFFSETTO:-0600
RDATE:20241103T020000
RDATE:20251102T020000
END:STANDARD
BEGIN:DAYLIGHT
TZNAME:CDT
DTSTART:20240310T020000
TZOFFSETFROM:-0600
TZOFFSETTO:-0500
RDATE:20250309T020000
END:DAYLIGHT
END:VTIMEZONE
BEGIN:VEVENT
UID:a075f996-c763-4785-bb9f-af7244975831
DTSTAMP:20260423T000821Z
DESCRIPTION:
DTSTART;TZID=America/Chicago:20240524T160000
DTEND;TZID=America/Chicago:20240524T170000
LOCATION:6725 Brittmoore Rd\, Houston\, TX 77041 US
SUMMARY:Memorial Day Pool Party
END:VEVENT
END:VCALENDAR
