BEGIN:VCALENDAR
VERSION:2.0
PRODID:-//empowercdc.org//NONSGML kigkonsult.se iCalcreator 2.30.10//
CALSCALE:GREGORIAN
METHOD:PUBLISH
UID:26f554f4-ba6d-4d94-88f9-0d9dcc54f126
X-WR-CALDESC:
X-WR-RELCALID:1dd3ff0ca0b92c401eee38e53fba8aed
X-WR-TIMEZONE:America/Chicago
BEGIN:VTIMEZONE
TZID:America/Chicago
BEGIN:STANDARD
TZNAME:CST
DTSTART:20231105T020000
TZOFFSETFROM:-0500
TZOFFSETTO:-0600
RDATE:20241103T020000
RDATE:20251102T020000
END:STANDARD
BEGIN:DAYLIGHT
TZNAME:CDT
DTSTART:20240310T020000
TZOFFSETFROM:-0600
TZOFFSETTO:-0500
RDATE:20250309T020000
END:DAYLIGHT
END:VTIMEZONE
BEGIN:VEVENT
UID:5735424f-9a75-4fde-a452-de5cc26db64c
DTSTAMP:20260423T000903Z
DESCRIPTION:
DTSTART;TZID=America/Chicago:20240520T160000
DTEND;TZID=America/Chicago:20240520T170000
LOCATION:6725 Brittmoore Rd\, Houston\, TX 77041 US
SUMMARY:Arts & Crafts: Jewelry Box
END:VEVENT
END:VCALENDAR
