BEGIN:VCALENDAR
VERSION:2.0
PRODID:-//empowercdc.org//NONSGML kigkonsult.se iCalcreator 2.30.10//
CALSCALE:GREGORIAN
METHOD:PUBLISH
UID:de28bb29-d7b6-4195-b7ca-bb900ab3ae48
X-WR-CALDESC:
X-WR-RELCALID:6185e6a9ae7271c1fa4231ee8af1d422
X-WR-TIMEZONE:America/Chicago
BEGIN:VTIMEZONE
TZID:America/Chicago
BEGIN:STANDARD
TZNAME:CST
DTSTART:20231105T020000
TZOFFSETFROM:-0500
TZOFFSETTO:-0600
RDATE:20241103T020000
RDATE:20251102T020000
END:STANDARD
BEGIN:DAYLIGHT
TZNAME:CDT
DTSTART:20240310T020000
TZOFFSETFROM:-0600
TZOFFSETTO:-0500
RDATE:20250309T020000
END:DAYLIGHT
END:VTIMEZONE
BEGIN:VEVENT
UID:37fe2f38-9ff5-40a5-895b-da90cdf2228c
DTSTAMP:20260423T000728Z
DESCRIPTION:
DTSTART;TZID=America/Chicago:20240517T160000
DTEND;TZID=America/Chicago:20240517T170000
LOCATION:6725 Brittmoore Rd\, Houston\, TX 77041 US
SUMMARY:Karaoke Birthday Social
END:VEVENT
END:VCALENDAR
