BEGIN:VCALENDAR
VERSION:2.0
PRODID:-//empowercdc.org//NONSGML kigkonsult.se iCalcreator 2.30.10//
CALSCALE:GREGORIAN
METHOD:PUBLISH
UID:00ed07f4-9dd0-4c95-9130-330e5357e3c5
X-WR-CALDESC:
X-WR-RELCALID:c5a9385f223037b2faa0ad537c7b8ee0
X-WR-TIMEZONE:America/Chicago
BEGIN:VTIMEZONE
TZID:America/Chicago
BEGIN:STANDARD
TZNAME:CST
DTSTART:20231105T020000
TZOFFSETFROM:-0500
TZOFFSETTO:-0600
RDATE:20241103T020000
RDATE:20251102T020000
END:STANDARD
BEGIN:DAYLIGHT
TZNAME:CDT
DTSTART:20240310T020000
TZOFFSETFROM:-0600
TZOFFSETTO:-0500
RDATE:20250309T020000
END:DAYLIGHT
END:VTIMEZONE
BEGIN:VEVENT
UID:e943a14e-ca39-483a-81a6-d83519e0f68e
DTSTAMP:20260422T234318Z
DESCRIPTION:
DTSTART;TZID=America/Chicago:20240513T160000
DTEND;TZID=America/Chicago:20240513T170000
LOCATION:
SUMMARY:Tai Chi Basics Exercise
END:VEVENT
END:VCALENDAR
