BEGIN:VCALENDAR
VERSION:2.0
PRODID:-//empowercdc.org//NONSGML kigkonsult.se iCalcreator 2.30.10//
CALSCALE:GREGORIAN
METHOD:PUBLISH
UID:b561cdbc-a125-45a9-9fe1-f250da84b2be
X-WR-CALDESC:
X-WR-RELCALID:ac86347371b8da5987a5f5a0cdc07b2f
X-WR-TIMEZONE:America/Chicago
BEGIN:VTIMEZONE
TZID:America/Chicago
BEGIN:STANDARD
TZNAME:CST
DTSTART:20231105T020000
TZOFFSETFROM:-0500
TZOFFSETTO:-0600
RDATE:20241103T020000
RDATE:20251102T020000
END:STANDARD
BEGIN:DAYLIGHT
TZNAME:CDT
DTSTART:20240310T020000
TZOFFSETFROM:-0600
TZOFFSETTO:-0500
RDATE:20250309T020000
END:DAYLIGHT
END:VTIMEZONE
BEGIN:VEVENT
UID:da1c72cb-34c5-40d6-956e-77c6f00a5af6
DTSTAMP:20260423T000325Z
DESCRIPTION:
DTSTART;TZID=America/Chicago:20240506T160000
DTEND;TZID=America/Chicago:20240506T170000
LOCATION:
SUMMARY:Arts & Crafts: Mothers Day Cards
END:VEVENT
END:VCALENDAR
