BEGIN:VCALENDAR
VERSION:2.0
PRODID:-//empowercdc.org//NONSGML kigkonsult.se iCalcreator 2.30.10//
CALSCALE:GREGORIAN
METHOD:PUBLISH
UID:b8a02b0d-5083-4a0d-a800-0b2ef97af55d
X-WR-CALDESC:
X-WR-RELCALID:2a20c265b4d6e3182ce0d4909bed7089
X-WR-TIMEZONE:America/Chicago
BEGIN:VTIMEZONE
TZID:America/Chicago
BEGIN:STANDARD
TZNAME:CST
DTSTART:20221106T020000
TZOFFSETFROM:-0500
TZOFFSETTO:-0600
RDATE:20231105T020000
END:STANDARD
BEGIN:DAYLIGHT
TZNAME:CDT
DTSTART:20230312T020000
TZOFFSETFROM:-0600
TZOFFSETTO:-0500
RDATE:20240310T020000
END:DAYLIGHT
END:VTIMEZONE
BEGIN:VEVENT
UID:d96b3abe-ffd5-433d-8bc1-73aa05ed01a3
DTSTAMP:20260423T204549Z
DESCRIPTION:
DTSTART;TZID=America/Chicago:20230327T140000
DTEND;TZID=America/Chicago:20230327T150000
LOCATION:The Brittmoore
SUMMARY:March of Dimes Walk
END:VEVENT
END:VCALENDAR
