BEGIN:VCALENDAR
VERSION:2.0
PRODID:-//empowercdc.org//NONSGML kigkonsult.se iCalcreator 2.30.10//
CALSCALE:GREGORIAN
METHOD:PUBLISH
UID:4264a8ec-7f25-403d-a2f1-b672991f78d1
X-WR-CALDESC:
X-WR-RELCALID:d2db6f29a46dd0c66f3e5cb99e1d2b51
X-WR-TIMEZONE:America/Chicago
BEGIN:VTIMEZONE
TZID:America/Chicago
BEGIN:STANDARD
TZNAME:CST
DTSTART:20221106T020000
TZOFFSETFROM:-0500
TZOFFSETTO:-0600
RDATE:20231105T020000
END:STANDARD
BEGIN:DAYLIGHT
TZNAME:CDT
DTSTART:20220313T020000
TZOFFSETFROM:-0600
TZOFFSETTO:-0500
RDATE:20230312T020000
RDATE:20240310T020000
END:DAYLIGHT
END:VTIMEZONE
BEGIN:VEVENT
UID:be7c1a1e-09a9-403d-a637-e4be111ad808
DTSTAMP:20260423T204058Z
DESCRIPTION:
DTSTART;TZID=America/Chicago:20230313T160000
DTEND;TZID=America/Chicago:20230313T170000
LOCATION:The Brittmoore
SUMMARY:Lucky Charms Art
END:VEVENT
END:VCALENDAR
