BEGIN:VCALENDAR
VERSION:2.0
PRODID:-//empowercdc.org//NONSGML kigkonsult.se iCalcreator 2.30.10//
CALSCALE:GREGORIAN
METHOD:PUBLISH
UID:d798021f-a308-47b8-924e-8ddfc429adad
X-WR-CALDESC:
X-WR-RELCALID:e84f77b4da249f68a995c3604d5bc3a5
X-WR-TIMEZONE:America/Chicago
BEGIN:VTIMEZONE
TZID:America/Chicago
BEGIN:STANDARD
TZNAME:CST
DTSTART:20221106T020000
TZOFFSETFROM:-0500
TZOFFSETTO:-0600
RDATE:20231105T020000
END:STANDARD
BEGIN:DAYLIGHT
TZNAME:CDT
DTSTART:20220313T020000
TZOFFSETFROM:-0600
TZOFFSETTO:-0500
RDATE:20230312T020000
RDATE:20240310T020000
END:DAYLIGHT
END:VTIMEZONE
BEGIN:VEVENT
UID:610ae28b-2a86-4488-9071-e44876827d89
DTSTAMP:20260423T204057Z
DESCRIPTION:
DTSTART;TZID=America/Chicago:20230306T150000
DTEND;TZID=America/Chicago:20230306T160000
LOCATION:The Brittmoore
SUMMARY:Birthday Social
END:VEVENT
END:VCALENDAR
