BEGIN:VCALENDAR
VERSION:2.0
PRODID:-//empowercdc.org//NONSGML kigkonsult.se iCalcreator 2.30.10//
CALSCALE:GREGORIAN
METHOD:PUBLISH
UID:c813ab07-a105-4596-91c6-8313574b6b00
X-WR-CALDESC:The Kid's Reading Room is back opened and ready to read storie
 s to the youth!
X-WR-RELCALID:2caa87edf0ddf2d44dc1c6276780872e
X-WR-TIMEZONE:America/Chicago
BEGIN:VTIMEZONE
TZID:America/Chicago
BEGIN:STANDARD
TZNAME:CST
DTSTART:20221106T020000
TZOFFSETFROM:-0500
TZOFFSETTO:-0600
RDATE:20231105T020000
END:STANDARD
BEGIN:DAYLIGHT
TZNAME:CDT
DTSTART:20220313T020000
TZOFFSETFROM:-0600
TZOFFSETTO:-0500
RDATE:20230312T020000
RDATE:20240310T020000
END:DAYLIGHT
END:VTIMEZONE
BEGIN:VEVENT
UID:537d35bf-ff92-4558-96ab-e0285d756028
DTSTAMP:20260424T015634Z
DESCRIPTION:The Kid's Reading Room is back opened and ready to read stories
  to the youth!
DTSTART;TZID=America/Chicago:20221123T160000
DTEND;TZID=America/Chicago:20221123T173000
LOCATION:
SUMMARY:The Kid's Reading Room
END:VEVENT
END:VCALENDAR
