BEGIN:VCALENDAR
VERSION:2.0
PRODID:-//empowercdc.org//NONSGML kigkonsult.se iCalcreator 2.30.10//
CALSCALE:GREGORIAN
METHOD:PUBLISH
UID:b1f24f42-95da-423e-aec8-87333a7d3859
X-WR-CALDESC:The Kid's Reading Room is back opened and ready to read storie
 s to the youth!
X-WR-RELCALID:c566bcde033f8840554e33e1ae74cc9b
X-WR-TIMEZONE:America/Chicago
BEGIN:VTIMEZONE
TZID:America/Chicago
BEGIN:STANDARD
TZNAME:CST
DTSTART:20211107T020000
TZOFFSETFROM:-0500
TZOFFSETTO:-0600
RDATE:20221106T020000
RDATE:20231105T020000
END:STANDARD
BEGIN:DAYLIGHT
TZNAME:CDT
DTSTART:20220313T020000
TZOFFSETFROM:-0600
TZOFFSETTO:-0500
RDATE:20230312T020000
END:DAYLIGHT
END:VTIMEZONE
BEGIN:VEVENT
UID:d20f2d8a-57e6-45b0-a677-dfbe0b4e5c47
DTSTAMP:20260424T092310Z
DESCRIPTION:The Kid's Reading Room is back opened and ready to read stories
  to the youth!
DTSTART;TZID=America/Chicago:20220601T160000
DTEND;TZID=America/Chicago:20220601T173000
LOCATION:
SUMMARY:The Kid's Reading Room
END:VEVENT
END:VCALENDAR
