BEGIN:VCALENDAR
VERSION:2.0
PRODID:-//empowercdc.org//NONSGML kigkonsult.se iCalcreator 2.30.10//
CALSCALE:GREGORIAN
METHOD:PUBLISH
UID:70032846-6e16-433e-bf8d-3e3f0b427c41
X-WR-CALDESC:Exercise: Virtual exercise via zoom.  Different techniques are
  used to to help the residents stay Simply Fit.
X-WR-RELCALID:0ea8e3c19428eb070c0b293c99ed4094
X-WR-TIMEZONE:America/Chicago
BEGIN:VTIMEZONE
TZID:America/Chicago
BEGIN:STANDARD
TZNAME:CST
DTSTART:20211107T020000
TZOFFSETFROM:-0500
TZOFFSETTO:-0600
RDATE:20221106T020000
RDATE:20231105T020000
END:STANDARD
BEGIN:DAYLIGHT
TZNAME:CDT
DTSTART:20220313T020000
TZOFFSETFROM:-0600
TZOFFSETTO:-0500
RDATE:20230312T020000
END:DAYLIGHT
END:VTIMEZONE
BEGIN:VEVENT
UID:a605af83-a20f-481e-ae2b-fe6ad79cbe89
DTSTAMP:20260424T091534Z
DESCRIPTION:Exercise: Virtual exercise via zoom.  Different techniques are 
 used to to help the residents stay Simply Fit.
DTSTART;TZID=America/Chicago:20220601T140000
DTEND;TZID=America/Chicago:20220601T150000
LOCATION:
SUMMARY:Exercise:  Simply Fit
END:VEVENT
END:VCALENDAR
