BEGIN:VCALENDAR
VERSION:2.0
PRODID:-//empowercdc.org//NONSGML kigkonsult.se iCalcreator 2.30.10//
CALSCALE:GREGORIAN
METHOD:PUBLISH
UID:5ea158db-d7dd-4252-89b4-7b032bce5454
X-WR-CALDESC:The Kid's Reading Room is back opened and ready to read storie
 s to the youth!
X-WR-RELCALID:2e39d19303defb6baef111a35125f922
X-WR-TIMEZONE:America/Chicago
BEGIN:VTIMEZONE
TZID:America/Chicago
BEGIN:STANDARD
TZNAME:CST
DTSTART:20211107T020000
TZOFFSETFROM:-0500
TZOFFSETTO:-0600
RDATE:20221106T020000
END:STANDARD
BEGIN:DAYLIGHT
TZNAME:CDT
DTSTART:20220313T020000
TZOFFSETFROM:-0600
TZOFFSETTO:-0500
RDATE:20230312T020000
END:DAYLIGHT
END:VTIMEZONE
BEGIN:VEVENT
UID:b82dbf1b-166b-4cfb-8d73-330541a84e83
DTSTAMP:20260424T120933Z
DESCRIPTION:The Kid's Reading Room is back opened and ready to read stories
  to the youth!
DTSTART;TZID=America/Chicago:20220406T160000
DTEND;TZID=America/Chicago:20220406T173000
LOCATION:
SUMMARY:The Kid's Reading Room
END:VEVENT
END:VCALENDAR
