BEGIN:VCALENDAR
VERSION:2.0
PRODID:-//empowercdc.org//NONSGML kigkonsult.se iCalcreator 2.30.10//
CALSCALE:GREGORIAN
METHOD:PUBLISH
UID:f932c0f1-1b9e-49f6-9e57-e0b6e9a9562f
X-WR-CALDESC:
X-WR-RELCALID:40967b97b14bcb321433911f235cbd9f
X-WR-TIMEZONE:America/Chicago
BEGIN:VTIMEZONE
TZID:America/Chicago
BEGIN:STANDARD
TZNAME:CST
DTSTART:20211107T020000
TZOFFSETFROM:-0500
TZOFFSETTO:-0600
RDATE:20221106T020000
END:STANDARD
BEGIN:DAYLIGHT
TZNAME:CDT
DTSTART:20210314T020000
TZOFFSETFROM:-0600
TZOFFSETTO:-0500
RDATE:20220313T020000
RDATE:20230312T020000
END:DAYLIGHT
END:VTIMEZONE
BEGIN:VEVENT
UID:89e4235e-1a86-4aec-986c-5a0588e132ed
DTSTAMP:20260424T173812Z
DESCRIPTION:
DTSTART;TZID=America/Chicago:20211222T150000
DTEND;TZID=America/Chicago:20211222T160000
LOCATION:
SUMMARY:Holiday Social
END:VEVENT
END:VCALENDAR
