BEGIN:VCALENDAR
VERSION:2.0
PRODID:-//empowercdc.org//NONSGML kigkonsult.se iCalcreator 2.30.10//
CALSCALE:GREGORIAN
METHOD:PUBLISH
UID:4bbc657e-264d-475a-a3c2-ec18d7d9cc87
X-WR-CALDESC:
X-WR-RELCALID:927d1b057777bcb7207ca2f59ced62bd
X-WR-TIMEZONE:America/Chicago
BEGIN:VTIMEZONE
TZID:America/Chicago
BEGIN:STANDARD
TZNAME:CST
DTSTART:20211107T020000
TZOFFSETFROM:-0500
TZOFFSETTO:-0600
RDATE:20221106T020000
END:STANDARD
BEGIN:DAYLIGHT
TZNAME:CDT
DTSTART:20210314T020000
TZOFFSETFROM:-0600
TZOFFSETTO:-0500
RDATE:20220313T020000
RDATE:20230312T020000
END:DAYLIGHT
END:VTIMEZONE
BEGIN:VEVENT
UID:30ff2840-d215-4ff8-a4c4-074453fb5d74
DTSTAMP:20260424T173948Z
DESCRIPTION:
DTSTART;TZID=America/Chicago:20211222T140000
DTEND;TZID=America/Chicago:20211222T150000
LOCATION:
SUMMARY:Annual Health Fair
END:VEVENT
END:VCALENDAR
