BEGIN:VCALENDAR
VERSION:2.0
PRODID:-//empowercdc.org//NONSGML kigkonsult.se iCalcreator 2.30.10//
CALSCALE:GREGORIAN
METHOD:PUBLISH
UID:a47c35e3-8835-48ac-b835-7b4057baee24
X-WR-CALDESC:
X-WR-RELCALID:c5d9f8d6664467bb8e2169278aa86ebf
X-WR-TIMEZONE:America/Chicago
BEGIN:VTIMEZONE
TZID:America/Chicago
BEGIN:STANDARD
TZNAME:CST
DTSTART:20211107T020000
TZOFFSETFROM:-0500
TZOFFSETTO:-0600
RDATE:20221106T020000
END:STANDARD
BEGIN:DAYLIGHT
TZNAME:CDT
DTSTART:20210314T020000
TZOFFSETFROM:-0600
TZOFFSETTO:-0500
RDATE:20220313T020000
RDATE:20230312T020000
END:DAYLIGHT
END:VTIMEZONE
BEGIN:VEVENT
UID:28a962c4-0840-4ccd-a308-616321a9acbd
DTSTAMP:20260424T173714Z
DESCRIPTION:
DTSTART;TZID=America/Chicago:20211215T160000
DTEND;TZID=America/Chicago:20211215T170000
LOCATION:
SUMMARY:Holiday Ornaments
END:VEVENT
END:VCALENDAR
