BEGIN:VCALENDAR
VERSION:2.0
PRODID:-//empowercdc.org//NONSGML kigkonsult.se iCalcreator 2.30.10//
CALSCALE:GREGORIAN
METHOD:PUBLISH
UID:4c969640-1b7b-4ed9-aaba-fd3198152d4d
X-WR-CALDESC:
X-WR-RELCALID:bfb1809d9093183352cd10a9819f359e
X-WR-TIMEZONE:America/Chicago
BEGIN:VTIMEZONE
TZID:America/Chicago
BEGIN:STANDARD
TZNAME:CST
DTSTART:20211107T020000
TZOFFSETFROM:-0500
TZOFFSETTO:-0600
RDATE:20221106T020000
END:STANDARD
BEGIN:DAYLIGHT
TZNAME:CDT
DTSTART:20210314T020000
TZOFFSETFROM:-0600
TZOFFSETTO:-0500
RDATE:20220313T020000
RDATE:20230312T020000
END:DAYLIGHT
END:VTIMEZONE
BEGIN:VEVENT
UID:5474c28c-aa60-415c-82c3-9fd08dd436d6
DTSTAMP:20260424T173947Z
DESCRIPTION:
DTSTART;TZID=America/Chicago:20211208T160000
DTEND;TZID=America/Chicago:20211208T170000
LOCATION:
SUMMARY:Holiday Velvet Poster
END:VEVENT
END:VCALENDAR
