BEGIN:VCALENDAR
VERSION:2.0
PRODID:-//empowercdc.org//NONSGML kigkonsult.se iCalcreator 2.30.10//
CALSCALE:GREGORIAN
METHOD:PUBLISH
UID:f6de8e3b-d677-4a10-8709-6a0b8a196a2a
X-WR-CALDESC:Simply Fit.. Virtual Videos of Beginners Workouts
X-WR-RELCALID:9904917380c70146f4762783a053ce9c
X-WR-TIMEZONE:America/Chicago
BEGIN:VTIMEZONE
TZID:America/Chicago
BEGIN:STANDARD
TZNAME:CST
DTSTART:20211107T020000
TZOFFSETFROM:-0500
TZOFFSETTO:-0600
RDATE:20221106T020000
END:STANDARD
BEGIN:DAYLIGHT
TZNAME:CDT
DTSTART:20210314T020000
TZOFFSETFROM:-0600
TZOFFSETTO:-0500
RDATE:20220313T020000
RDATE:20230312T020000
END:DAYLIGHT
END:VTIMEZONE
BEGIN:VEVENT
UID:30204356-331e-4bc7-9350-0d1e52ef73e2
DTSTAMP:20260424T190616Z
DESCRIPTION:Simply Fit.. Virtual Videos of Beginners Workouts
DTSTART;TZID=America/Chicago:20211112T110000
DTEND;TZID=America/Chicago:20211112T120000
LOCATION:
SUMMARY:Exercise: Virtual Simply Fit
END:VEVENT
END:VCALENDAR
