BEGIN:VCALENDAR
VERSION:2.0
PRODID:-//empowercdc.org//NONSGML kigkonsult.se iCalcreator 2.30.10//
CALSCALE:GREGORIAN
METHOD:PUBLISH
UID:535e2f8a-1b86-4171-8951-05d2925b331d
X-WR-CALDESC:
X-WR-RELCALID:2333548452a76804f0e20a31ad184c02
X-WR-TIMEZONE:America/Chicago
BEGIN:VTIMEZONE
TZID:America/Chicago
BEGIN:STANDARD
TZNAME:CST
DTSTART:20201101T020000
TZOFFSETFROM:-0500
TZOFFSETTO:-0600
RDATE:20211107T020000
RDATE:20221106T020000
END:STANDARD
BEGIN:DAYLIGHT
TZNAME:CDT
DTSTART:20210314T020000
TZOFFSETFROM:-0600
TZOFFSETTO:-0500
RDATE:20220313T020000
RDATE:20230312T020000
END:DAYLIGHT
END:VTIMEZONE
BEGIN:VEVENT
UID:a788233e-9614-45c7-b81c-e12d97a189e3
DTSTAMP:20260424T201714Z
DESCRIPTION:
DTSTART;TZID=America/Chicago:20211021T160000
DTEND;TZID=America/Chicago:20211021T170000
LOCATION:
SUMMARY:DIY Mask
END:VEVENT
END:VCALENDAR
