BEGIN:VCALENDAR
VERSION:2.0
PRODID:-//empowercdc.org//NONSGML kigkonsult.se iCalcreator 2.30.10//
CALSCALE:GREGORIAN
METHOD:PUBLISH
UID:c64d896c-220f-4dd9-8892-bfa503ee7b6d
X-WR-CALDESC:
X-WR-RELCALID:44c0c62efa2e89fced834979682caa64
X-WR-TIMEZONE:America/Chicago
BEGIN:VTIMEZONE
TZID:America/Chicago
BEGIN:STANDARD
TZNAME:CST
DTSTART:20201101T020000
TZOFFSETFROM:-0500
TZOFFSETTO:-0600
RDATE:20211107T020000
RDATE:20221106T020000
END:STANDARD
BEGIN:DAYLIGHT
TZNAME:CDT
DTSTART:20210314T020000
TZOFFSETFROM:-0600
TZOFFSETTO:-0500
RDATE:20220313T020000
RDATE:20230312T020000
END:DAYLIGHT
END:VTIMEZONE
BEGIN:VEVENT
UID:0f45e1a8-0c8d-4eab-ab39-738dcd3c130a
DTSTAMP:20260424T201929Z
DESCRIPTION:
DTSTART;TZID=America/Chicago:20211007T150000
DTEND;TZID=America/Chicago:20211007T160000
LOCATION:
SUMMARY:Birthday Social
END:VEVENT
END:VCALENDAR
