BEGIN:VCALENDAR
VERSION:2.0
PRODID:-//empowercdc.org//NONSGML kigkonsult.se iCalcreator 2.30.10//
CALSCALE:GREGORIAN
METHOD:PUBLISH
UID:27d2c626-437f-4988-b617-8ec02452b754
X-WR-CALDESC:
X-WR-RELCALID:3d24b972049f4866a2c1af695e132f96
X-WR-TIMEZONE:America/Chicago
BEGIN:VTIMEZONE
TZID:America/Chicago
BEGIN:STANDARD
TZNAME:CST
DTSTART:20201101T020000
TZOFFSETFROM:-0500
TZOFFSETTO:-0600
RDATE:20211107T020000
RDATE:20221106T020000
END:STANDARD
BEGIN:DAYLIGHT
TZNAME:CDT
DTSTART:20210314T020000
TZOFFSETFROM:-0600
TZOFFSETTO:-0500
RDATE:20220313T020000
RDATE:20230312T020000
END:DAYLIGHT
END:VTIMEZONE
BEGIN:VEVENT
UID:f4b78b86-5477-4a6d-b698-bbc8518b4dd5
DTSTAMP:20260424T202722Z
DESCRIPTION:
DTSTART;TZID=America/Chicago:20210923T090000
DTEND;TZID=America/Chicago:20211015T140000
LOCATION:
SUMMARY:Arts and Crafts:  Halloween Door Decorating Contest
END:VEVENT
END:VCALENDAR
