BEGIN:VCALENDAR
VERSION:2.0
PRODID:-//empowercdc.org//NONSGML kigkonsult.se iCalcreator 2.30.10//
CALSCALE:GREGORIAN
METHOD:PUBLISH
UID:70362a22-899d-47a5-8463-caf14b855504
X-WR-CALDESC:
X-WR-RELCALID:d9435cbe3b8f5000567b43e64831cff4
X-WR-TIMEZONE:America/Chicago
BEGIN:VTIMEZONE
TZID:America/Chicago
BEGIN:STANDARD
TZNAME:CST
DTSTART:20201101T020000
TZOFFSETFROM:-0500
TZOFFSETTO:-0600
RDATE:20211107T020000
RDATE:20221106T020000
END:STANDARD
BEGIN:DAYLIGHT
TZNAME:CDT
DTSTART:20210314T020000
TZOFFSETFROM:-0600
TZOFFSETTO:-0500
RDATE:20220313T020000
RDATE:20230312T020000
END:DAYLIGHT
END:VTIMEZONE
BEGIN:VEVENT
UID:b74b4661-4729-420c-bce0-6c92e58b7ddd
DTSTAMP:20260424T220331Z
DESCRIPTION:
DTSTART;TZID=America/Chicago:20210917T160000
DTEND;TZID=America/Chicago:20210917T170000
LOCATION:
SUMMARY:Health & Nutrition
END:VEVENT
END:VCALENDAR
