BEGIN:VCALENDAR
VERSION:2.0
PRODID:-//empowercdc.org//NONSGML kigkonsult.se iCalcreator 2.30.10//
CALSCALE:GREGORIAN
METHOD:PUBLISH
UID:e85661d6-e673-418e-8025-83acb081285c
X-WR-CALDESC:This is course for adolescent young ladies on different topics
 .  GREAT COURSE!
X-WR-RELCALID:a0467eb858bc4588d0825dc9f8d038a9
X-WR-TIMEZONE:America/Chicago
BEGIN:VTIMEZONE
TZID:America/Chicago
BEGIN:STANDARD
TZNAME:CST
DTSTART:20201101T020000
TZOFFSETFROM:-0500
TZOFFSETTO:-0600
RDATE:20211107T020000
RDATE:20221106T020000
END:STANDARD
BEGIN:DAYLIGHT
TZNAME:CDT
DTSTART:20210314T020000
TZOFFSETFROM:-0600
TZOFFSETTO:-0500
RDATE:20220313T020000
END:DAYLIGHT
END:VTIMEZONE
BEGIN:VEVENT
UID:8181df3d-2245-40b6-b44d-7e1f4d904b5c
DTSTAMP:20260424T232952Z
DESCRIPTION:This is course for adolescent young ladies on different topics.
   GREAT COURSE!
DTSTART;TZID=America/Chicago:20210830T173000
DTEND;TZID=America/Chicago:20210830T190000
LOCATION:
SUMMARY:POWER UP THE HEAT
END:VEVENT
END:VCALENDAR
