BEGIN:VCALENDAR
VERSION:2.0
PRODID:-//empowercdc.org//NONSGML kigkonsult.se iCalcreator 2.30.10//
CALSCALE:GREGORIAN
METHOD:PUBLISH
UID:3ac459f4-8822-4bb8-8ed1-066ac92b585b
X-WR-CALDESC:COME OUT FOR A FREINDLY MEET AND GREET WITH YOUR FELLOW RESIDE
 NTS.
X-WR-RELCALID:008c617ac3aced8a31cfff46fa16d5d7
X-WR-TIMEZONE:America/Chicago
BEGIN:VTIMEZONE
TZID:America/Chicago
BEGIN:STANDARD
TZNAME:CST
DTSTART:20201101T020000
TZOFFSETFROM:-0500
TZOFFSETTO:-0600
RDATE:20211107T020000
RDATE:20221106T020000
END:STANDARD
BEGIN:DAYLIGHT
TZNAME:CDT
DTSTART:20210314T020000
TZOFFSETFROM:-0600
TZOFFSETTO:-0500
RDATE:20220313T020000
END:DAYLIGHT
END:VTIMEZONE
BEGIN:VEVENT
UID:cc64efaa-b6d2-4baa-bb97-c38ba4202b34
DTSTAMP:20260425T033506Z
DESCRIPTION:COME OUT FOR A FREINDLY MEET AND GREET WITH YOUR FELLOW RESIDEN
 TS.
DTSTART;TZID=America/Chicago:20210816T150000
DTEND;TZID=America/Chicago:20210816T160000
LOCATION:
SUMMARY:Meet and Greet
END:VEVENT
END:VCALENDAR
