BEGIN:VCALENDAR
VERSION:2.0
PRODID:-//empowercdc.org//NONSGML kigkonsult.se iCalcreator 2.30.10//
CALSCALE:GREGORIAN
METHOD:PUBLISH
UID:19328fdd-938e-4948-b051-2ee04de380dc
X-WR-CALDESC:COME OUT AND MAKE YOUR VERY OWN CENTERPIECE FOR YOUR MANTLE OR
  DINING ROOM TABLE.
X-WR-RELCALID:a6dacf13e62b2ce48dec24acb5fbf047
X-WR-TIMEZONE:America/Chicago
BEGIN:VTIMEZONE
TZID:America/Chicago
BEGIN:STANDARD
TZNAME:CST
DTSTART:20201101T020000
TZOFFSETFROM:-0500
TZOFFSETTO:-0600
RDATE:20211107T020000
RDATE:20221106T020000
END:STANDARD
BEGIN:DAYLIGHT
TZNAME:CDT
DTSTART:20210314T020000
TZOFFSETFROM:-0600
TZOFFSETTO:-0500
RDATE:20220313T020000
END:DAYLIGHT
END:VTIMEZONE
BEGIN:VEVENT
UID:d20c90dc-cce3-4598-92fa-0735e3ffdb3b
DTSTAMP:20260424T233029Z
DESCRIPTION:COME OUT AND MAKE YOUR VERY OWN CENTERPIECE FOR YOUR MANTLE OR 
 DINING ROOM TABLE.
DTSTART;TZID=America/Chicago:20210816T160000
DTEND;TZID=America/Chicago:20210816T170000
LOCATION:
SUMMARY:DIY Centerpiece
END:VEVENT
END:VCALENDAR
