BEGIN:VCALENDAR
VERSION:2.0
PRODID:-//empowercdc.org//NONSGML kigkonsult.se iCalcreator 2.30.10//
CALSCALE:GREGORIAN
METHOD:PUBLISH
UID:aee74bb8-19e7-4294-bf69-91fdaf468a8f
X-WR-CALDESC:Make your own windchime
X-WR-RELCALID:0f4296d2cae119b242b22cf8aa87c450
X-WR-TIMEZONE:America/Chicago
BEGIN:VTIMEZONE
TZID:America/Chicago
BEGIN:STANDARD
TZNAME:CST
DTSTART:20201101T020000
TZOFFSETFROM:-0500
TZOFFSETTO:-0600
RDATE:20211107T020000
RDATE:20221106T020000
END:STANDARD
BEGIN:DAYLIGHT
TZNAME:CDT
DTSTART:20210314T020000
TZOFFSETFROM:-0600
TZOFFSETTO:-0500
RDATE:20220313T020000
END:DAYLIGHT
END:VTIMEZONE
BEGIN:VEVENT
UID:61567512-b84e-4cda-ad9d-cdad70c12cbd
DTSTAMP:20260425T010054Z
DESCRIPTION:Make your own windchime
DTSTART;TZID=America/Chicago:20210727T160000
DTEND;TZID=America/Chicago:20210727T170000
LOCATION:
SUMMARY:Arts and Crafts:  Windchimes
END:VEVENT
END:VCALENDAR
