BEGIN:VCALENDAR
VERSION:2.0
PRODID:-//empowercdc.org//NONSGML kigkonsult.se iCalcreator 2.30.10//
CALSCALE:GREGORIAN
METHOD:PUBLISH
UID:1e1b7714-cd38-4eb8-92ce-90505e2b0487
X-WR-CALDESC:Backyard Bootcamp.. Virtual Videos of Beginners Workouts
X-WR-RELCALID:245aad1a0c22ed5004e0ac3356b48ccb
X-WR-TIMEZONE:America/Chicago
BEGIN:VTIMEZONE
TZID:America/Chicago
BEGIN:STANDARD
TZNAME:CST
DTSTART:20201101T020000
TZOFFSETFROM:-0500
TZOFFSETTO:-0600
RDATE:20211107T020000
RDATE:20221106T020000
END:STANDARD
BEGIN:DAYLIGHT
TZNAME:CDT
DTSTART:20210314T020000
TZOFFSETFROM:-0600
TZOFFSETTO:-0500
RDATE:20220313T020000
END:DAYLIGHT
END:VTIMEZONE
BEGIN:VEVENT
UID:b2bcdafd-b9f6-4a32-b114-bf288828db93
DTSTAMP:20260425T011111Z
DESCRIPTION:Backyard Bootcamp.. Virtual Videos of Beginners Workouts
DTSTART;TZID=America/Chicago:20210702T110000
DTEND;TZID=America/Chicago:20210702T120000
LOCATION:
SUMMARY:Exercise: Virtual BACKYARD BOOTCAMP
END:VEVENT
END:VCALENDAR
