BEGIN:VCALENDAR
VERSION:2.0
PRODID:-//empowercdc.org//NONSGML kigkonsult.se iCalcreator 2.30.10//
CALSCALE:GREGORIAN
METHOD:PUBLISH
UID:2e62a7ce-d3be-4fa1-b8f3-9cb2bd8e7927
X-WR-CALDESC:Meet and Greet: Come out and have a great time meeting your ne
 ighbors.
X-WR-RELCALID:561ae44a1e3f3830588451a73e86b91a
X-WR-TIMEZONE:America/Chicago
BEGIN:VTIMEZONE
TZID:America/Chicago
BEGIN:STANDARD
TZNAME:CST
DTSTART:20201101T020000
TZOFFSETFROM:-0500
TZOFFSETTO:-0600
RDATE:20211107T020000
RDATE:20221106T020000
END:STANDARD
BEGIN:DAYLIGHT
TZNAME:CDT
DTSTART:20210314T020000
TZOFFSETFROM:-0600
TZOFFSETTO:-0500
RDATE:20220313T020000
END:DAYLIGHT
END:VTIMEZONE
BEGIN:VEVENT
UID:e89c417a-25ae-483b-a1ef-6089fddaa917
DTSTAMP:20260425T024301Z
DESCRIPTION:Meet and Greet: Come out and have a great time meeting your nei
 ghbors.
DTSTART;TZID=America/Chicago:20210628T160000
DTEND;TZID=America/Chicago:20210628T170000
LOCATION:
SUMMARY:Social:  Meet and Greet
END:VEVENT
END:VCALENDAR
