BEGIN:VCALENDAR
VERSION:2.0
PRODID:-//empowercdc.org//NONSGML kigkonsult.se iCalcreator 2.30.10//
CALSCALE:GREGORIAN
METHOD:PUBLISH
UID:adfa9b44-f641-4abc-a6d0-8756e6f8c42d
X-WR-CALDESC:
X-WR-RELCALID:b6bd9d4a952115bb268e9329c0a5d2c7
X-WR-TIMEZONE:America/Chicago
BEGIN:VTIMEZONE
TZID:America/Chicago
BEGIN:STANDARD
TZNAME:CST
DTSTART:20201101T020000
TZOFFSETFROM:-0500
TZOFFSETTO:-0600
RDATE:20211107T020000
RDATE:20221106T020000
END:STANDARD
BEGIN:DAYLIGHT
TZNAME:CDT
DTSTART:20210314T020000
TZOFFSETFROM:-0600
TZOFFSETTO:-0500
RDATE:20220313T020000
END:DAYLIGHT
END:VTIMEZONE
BEGIN:VEVENT
UID:a7735b9c-95e1-47c6-a620-a87d21fbcb78
DTSTAMP:20260425T040750Z
DESCRIPTION:
DTSTART;TZID=America/Chicago:20210507T110000
DTEND;TZID=America/Chicago:20210507T120000
LOCATION:
SUMMARY:Joyfully Healthy
END:VEVENT
END:VCALENDAR
