BEGIN:VCALENDAR
VERSION:2.0
PRODID:-//empowercdc.org//NONSGML kigkonsult.se iCalcreator 2.30.10//
CALSCALE:GREGORIAN
METHOD:PUBLISH
UID:4e824eb0-f403-41ff-803a-355b3a454867
X-WR-CALDESC:
X-WR-RELCALID:7abca53090a03896256d584744ead66d
X-WR-TIMEZONE:America/Chicago
BEGIN:VTIMEZONE
TZID:America/Chicago
BEGIN:STANDARD
TZNAME:CST
DTSTART:20201101T020000
TZOFFSETFROM:-0500
TZOFFSETTO:-0600
RDATE:20211107T020000
END:STANDARD
BEGIN:DAYLIGHT
TZNAME:CDT
DTSTART:20200308T020000
TZOFFSETFROM:-0600
TZOFFSETTO:-0500
RDATE:20210314T020000
RDATE:20220313T020000
END:DAYLIGHT
END:VTIMEZONE
BEGIN:VEVENT
UID:09477818-e0be-412a-b2ce-b587571f4ce1
DTSTAMP:20260425T125600Z
DESCRIPTION:
DTSTART;TZID=America/Chicago:20201230T120000
DTEND;TZID=America/Chicago:20201230T130000
LOCATION:
SUMMARY:Stress Relief Stretching
END:VEVENT
END:VCALENDAR
