BEGIN:VCALENDAR
VERSION:2.0
PRODID:-//empowercdc.org//NONSGML kigkonsult.se iCalcreator 2.30.10//
CALSCALE:GREGORIAN
METHOD:PUBLISH
UID:4536fd63-64ba-41ba-990a-9bee52909355
X-WR-CALDESC:Join us for this virtual event and learn how to make your own 
 magic scratch picture!
X-WR-RELCALID:157f5eb6b48175ee87939a320b4e33c4
X-WR-TIMEZONE:America/Chicago
BEGIN:VTIMEZONE
TZID:America/Chicago
BEGIN:STANDARD
TZNAME:CST
DTSTART:20201101T020000
TZOFFSETFROM:-0500
TZOFFSETTO:-0600
RDATE:20211107T020000
END:STANDARD
BEGIN:DAYLIGHT
TZNAME:CDT
DTSTART:20200308T020000
TZOFFSETFROM:-0600
TZOFFSETTO:-0500
RDATE:20210314T020000
RDATE:20220313T020000
END:DAYLIGHT
END:VTIMEZONE
BEGIN:VEVENT
UID:d98d0c4f-1944-418d-b2aa-962badec348a
DTSTAMP:20260425T125212Z
DESCRIPTION:Join us for this virtual event and learn how to make your own m
 agic scratch picture!
DTSTART;TZID=America/Chicago:20201228T160000
DTEND;TZID=America/Chicago:20201228T170000
LOCATION:
SUMMARY:Magic Scratch Picture
END:VEVENT
END:VCALENDAR
