BEGIN:VCALENDAR
VERSION:2.0
PRODID:-//empowercdc.org//NONSGML kigkonsult.se iCalcreator 2.30.10//
CALSCALE:GREGORIAN
METHOD:PUBLISH
UID:7c88680f-a669-4e06-bcad-a0ef3cc2d326
X-WR-CALDESC:Get your Christmas tree ready with your own personalized ornam
 ent!
X-WR-RELCALID:a28cd21abee4f4ca0179a27f0c562513
X-WR-TIMEZONE:America/Chicago
BEGIN:VTIMEZONE
TZID:America/Chicago
BEGIN:STANDARD
TZNAME:CST
DTSTART:20201101T020000
TZOFFSETFROM:-0500
TZOFFSETTO:-0600
RDATE:20211107T020000
END:STANDARD
BEGIN:DAYLIGHT
TZNAME:CDT
DTSTART:20200308T020000
TZOFFSETFROM:-0600
TZOFFSETTO:-0500
RDATE:20210314T020000
RDATE:20220313T020000
END:DAYLIGHT
END:VTIMEZONE
BEGIN:VEVENT
UID:d8c8aa02-7756-42a9-b1aa-37bf3fadc251
DTSTAMP:20260425T125227Z
DESCRIPTION:Get your Christmas tree ready with your own personalized orname
 nt!
DTSTART;TZID=America/Chicago:20201222T160000
DTEND;TZID=America/Chicago:20201222T170000
LOCATION:
SUMMARY:Ornament Decorating
END:VEVENT
END:VCALENDAR
