BEGIN:VCALENDAR
VERSION:2.0
PRODID:-//empowercdc.org//NONSGML kigkonsult.se iCalcreator 2.30.10//
CALSCALE:GREGORIAN
METHOD:PUBLISH
UID:d3f54bfb-c69b-491a-8395-a30646cfe690
X-WR-CALDESC:Get some last minute Christmas shopping done at Marshalls! \n
 \n
X-WR-RELCALID:da793c968a49b7cb072ded8796777aff
X-WR-TIMEZONE:America/Chicago
BEGIN:VTIMEZONE
TZID:America/Chicago
BEGIN:STANDARD
TZNAME:CST
DTSTART:20201101T020000
TZOFFSETFROM:-0500
TZOFFSETTO:-0600
RDATE:20211107T020000
END:STANDARD
BEGIN:DAYLIGHT
TZNAME:CDT
DTSTART:20200308T020000
TZOFFSETFROM:-0600
TZOFFSETTO:-0500
RDATE:20210314T020000
RDATE:20220313T020000
END:DAYLIGHT
END:VTIMEZONE
BEGIN:VEVENT
UID:8b0c87ea-3439-40e1-8bd7-8bef8a1a4c55
DTSTAMP:20260425T125227Z
DESCRIPTION:Get some last minute Christmas shopping done at Marshalls! \n\n
DTSTART;TZID=America/Chicago:20201221T130000
DTEND;TZID=America/Chicago:20201221T140000
LOCATION:
SUMMARY:Lets Go to Marshalls!
END:VEVENT
END:VCALENDAR
