BEGIN:VCALENDAR
VERSION:2.0
PRODID:-//empowercdc.org//NONSGML kigkonsult.se iCalcreator 2.30.10//
CALSCALE:GREGORIAN
METHOD:PUBLISH
UID:b8c8c138-a4b2-44be-b3a3-10951129d81a
X-WR-CALDESC:
X-WR-RELCALID:24a97e920827b30670c7bf33e941c79b
X-WR-TIMEZONE:America/Chicago
BEGIN:VTIMEZONE
TZID:America/Chicago
BEGIN:STANDARD
TZNAME:CST
DTSTART:20201101T020000
TZOFFSETFROM:-0500
TZOFFSETTO:-0600
RDATE:20211107T020000
END:STANDARD
BEGIN:DAYLIGHT
TZNAME:CDT
DTSTART:20200308T020000
TZOFFSETFROM:-0600
TZOFFSETTO:-0500
RDATE:20210314T020000
RDATE:20220313T020000
END:DAYLIGHT
END:VTIMEZONE
BEGIN:VEVENT
UID:8f357b4b-997c-4dd3-a250-52ebb3f6dbb7
DTSTAMP:20260425T125814Z
DESCRIPTION:
DTSTART;TZID=America/Chicago:20201216T120000
DTEND;TZID=America/Chicago:20201216T130000
LOCATION:
SUMMARY:Stress Relief Stretching
END:VEVENT
END:VCALENDAR
