BEGIN:VCALENDAR
VERSION:2.0
PRODID:-//empowercdc.org//NONSGML kigkonsult.se iCalcreator 2.30.10//
CALSCALE:GREGORIAN
METHOD:PUBLISH
UID:84412608-9817-46c7-b52e-6b114e5b1b64
X-WR-CALDESC:
X-WR-RELCALID:3807787bc6ae8fe7df3cbe553d5b1428
X-WR-TIMEZONE:America/Chicago
BEGIN:VTIMEZONE
TZID:America/Chicago
BEGIN:STANDARD
TZNAME:CST
DTSTART:20201101T020000
TZOFFSETFROM:-0500
TZOFFSETTO:-0600
RDATE:20211107T020000
END:STANDARD
BEGIN:DAYLIGHT
TZNAME:CDT
DTSTART:20200308T020000
TZOFFSETFROM:-0600
TZOFFSETTO:-0500
RDATE:20210314T020000
RDATE:20220313T020000
END:DAYLIGHT
END:VTIMEZONE
BEGIN:VEVENT
UID:28ba8433-e889-4bd9-bc9d-56690789d0b8
DTSTAMP:20260425T125421Z
DESCRIPTION:
DTSTART;TZID=America/Chicago:20201214T160000
DTEND;TZID=America/Chicago:20201214T170000
LOCATION:
SUMMARY:Hot Cocoa and Cookies
END:VEVENT
END:VCALENDAR
