BEGIN:VCALENDAR
VERSION:2.0
PRODID:-//empowercdc.org//NONSGML kigkonsult.se iCalcreator 2.30.10//
CALSCALE:GREGORIAN
METHOD:PUBLISH
UID:e9f6151b-a4e2-4d4e-847b-809f33b4036f
X-WR-CALDESC:Learn how to sustain independence through healthy meal pattern
 s\, resource management\, and physical activity.
X-WR-RELCALID:74886fa49cd8b9bfce87d6b692c05ea4
X-WR-TIMEZONE:America/Chicago
BEGIN:VTIMEZONE
TZID:America/Chicago
BEGIN:STANDARD
TZNAME:CST
DTSTART:20201101T020000
TZOFFSETFROM:-0500
TZOFFSETTO:-0600
RDATE:20211107T020000
END:STANDARD
BEGIN:DAYLIGHT
TZNAME:CDT
DTSTART:20200308T020000
TZOFFSETFROM:-0600
TZOFFSETTO:-0500
RDATE:20210314T020000
RDATE:20220313T020000
END:DAYLIGHT
END:VTIMEZONE
BEGIN:VEVENT
UID:1a6943b9-e947-4ee4-90e2-43fb3f227311
DTSTAMP:20260425T144041Z
DESCRIPTION:Learn how to sustain independence through healthy meal patterns
 \, resource management\, and physical activity.
DTSTART;TZID=America/Chicago:20201127T173000
DTEND;TZID=America/Chicago:20201127T183000
LOCATION:
SUMMARY:Joyfully Healthy
END:VEVENT
END:VCALENDAR
