BEGIN:VCALENDAR
VERSION:2.0
PRODID:-//empowercdc.org//NONSGML kigkonsult.se iCalcreator 2.30.10//
CALSCALE:GREGORIAN
METHOD:PUBLISH
UID:b91ca517-fae1-4329-a6b3-8446f11b472d
X-WR-CALDESC:
X-WR-RELCALID:dc06c03ab81ca2d609087f7ba654fc3b
X-WR-TIMEZONE:America/Chicago
BEGIN:VTIMEZONE
TZID:America/Chicago
BEGIN:STANDARD
TZNAME:CST
DTSTART:20201101T020000
TZOFFSETFROM:-0500
TZOFFSETTO:-0600
RDATE:20211107T020000
END:STANDARD
BEGIN:DAYLIGHT
TZNAME:CDT
DTSTART:20200308T020000
TZOFFSETFROM:-0600
TZOFFSETTO:-0500
RDATE:20210314T020000
RDATE:20220313T020000
END:DAYLIGHT
END:VTIMEZONE
BEGIN:VEVENT
UID:3bc29cfb-40f7-4b39-8528-e7100de5e556
DTSTAMP:20260425T144401Z
DESCRIPTION:
DTSTART;TZID=America/Chicago:20201125T090000
DTEND;TZID=America/Chicago:20201125T093000
LOCATION:
SUMMARY:Weekly Inspirations
END:VEVENT
END:VCALENDAR
