BEGIN:VCALENDAR
VERSION:2.0
PRODID:-//empowercdc.org//NONSGML kigkonsult.se iCalcreator 2.30.10//
CALSCALE:GREGORIAN
METHOD:PUBLISH
UID:69e8efcb-b77b-472c-b661-cd6573de5540
X-WR-CALDESC:
X-WR-RELCALID:ce7e166090b3fac7658bd001e751552f
X-WR-TIMEZONE:America/Chicago
BEGIN:VTIMEZONE
TZID:America/Chicago
BEGIN:STANDARD
TZNAME:CST
DTSTART:20201101T020000
TZOFFSETFROM:-0500
TZOFFSETTO:-0600
RDATE:20211107T020000
END:STANDARD
BEGIN:DAYLIGHT
TZNAME:CDT
DTSTART:20200308T020000
TZOFFSETFROM:-0600
TZOFFSETTO:-0500
RDATE:20210314T020000
RDATE:20220313T020000
END:DAYLIGHT
END:VTIMEZONE
BEGIN:VEVENT
UID:6e1ebc01-4a30-463f-b72c-c7778479b6a6
DTSTAMP:20260425T144513Z
DESCRIPTION:
DTSTART;TZID=America/Chicago:20201120T100000
DTEND;TZID=America/Chicago:20201120T173000
LOCATION:
SUMMARY:Health & Nutrition Raffle Ends
END:VEVENT
END:VCALENDAR
