BEGIN:VCALENDAR
VERSION:2.0
PRODID:-//empowercdc.org//NONSGML kigkonsult.se iCalcreator 2.30.10//
CALSCALE:GREGORIAN
METHOD:PUBLISH
UID:c0b96d85-0aa0-4f82-981a-cab9c284de0e
X-WR-CALDESC:
X-WR-RELCALID:d48785cbdab844a30ce16e52cd3db2a2
X-WR-TIMEZONE:America/Chicago
BEGIN:VTIMEZONE
TZID:America/Chicago
BEGIN:STANDARD
TZNAME:CST
DTSTART:20201101T020000
TZOFFSETFROM:-0500
TZOFFSETTO:-0600
RDATE:20211107T020000
END:STANDARD
BEGIN:DAYLIGHT
TZNAME:CDT
DTSTART:20200308T020000
TZOFFSETFROM:-0600
TZOFFSETTO:-0500
RDATE:20210314T020000
RDATE:20220313T020000
END:DAYLIGHT
END:VTIMEZONE
BEGIN:VEVENT
UID:50ff8734-d9de-4a6e-b13b-3fae95ba9024
DTSTAMP:20260425T143810Z
DESCRIPTION:
DTSTART;TZID=America/Chicago:20201120T100000
DTEND;TZID=America/Chicago:20201120T173000
LOCATION:
SUMMARY:Door Decorating Competition Ends
END:VEVENT
END:VCALENDAR
