BEGIN:VCALENDAR
VERSION:2.0
PRODID:-//empowercdc.org//NONSGML kigkonsult.se iCalcreator 2.30.10//
CALSCALE:GREGORIAN
METHOD:PUBLISH
UID:d849a0b1-e1d8-4015-9ace-faed0e5723f3
X-WR-CALDESC:
X-WR-RELCALID:79b5c1d1caaf342f0795d8a30fc89ed6
X-WR-TIMEZONE:America/Chicago
BEGIN:VTIMEZONE
TZID:America/Chicago
BEGIN:STANDARD
TZNAME:CST
DTSTART:20201101T020000
TZOFFSETFROM:-0500
TZOFFSETTO:-0600
RDATE:20211107T020000
END:STANDARD
BEGIN:DAYLIGHT
TZNAME:CDT
DTSTART:20200308T020000
TZOFFSETFROM:-0600
TZOFFSETTO:-0500
RDATE:20210314T020000
RDATE:20220313T020000
END:DAYLIGHT
END:VTIMEZONE
BEGIN:VEVENT
UID:5882cabe-e5bc-4c13-85aa-d9d70ab372ee
DTSTAMP:20260425T143837Z
DESCRIPTION:
DTSTART;TZID=America/Chicago:20201119T120000
DTEND;TZID=America/Chicago:20201119T130000
LOCATION:
SUMMARY:Trivia Grab N' Go
END:VEVENT
END:VCALENDAR
