BEGIN:VCALENDAR
VERSION:2.0
PRODID:-//empowercdc.org//NONSGML kigkonsult.se iCalcreator 2.30.10//
CALSCALE:GREGORIAN
METHOD:PUBLISH
UID:b037403b-3e86-4365-8ecd-c42adfb3864a
X-WR-CALDESC:Learn how to sustain independence through healthy meal pattern
 s\, resource management\, and physical activity.
X-WR-RELCALID:da43852384868e20ec0aec01c6aa4fbe
X-WR-TIMEZONE:America/Chicago
BEGIN:VTIMEZONE
TZID:America/Chicago
BEGIN:STANDARD
TZNAME:CST
DTSTART:20201101T020000
TZOFFSETFROM:-0500
TZOFFSETTO:-0600
RDATE:20211107T020000
END:STANDARD
BEGIN:DAYLIGHT
TZNAME:CDT
DTSTART:20200308T020000
TZOFFSETFROM:-0600
TZOFFSETTO:-0500
RDATE:20210314T020000
RDATE:20220313T020000
END:DAYLIGHT
END:VTIMEZONE
BEGIN:VEVENT
UID:bed0f248-406b-42ce-9f02-f3b8c4a5d0e5
DTSTAMP:20260425T143949Z
DESCRIPTION:Learn how to sustain independence through healthy meal patterns
 \, resource management\, and physical activity.
DTSTART;TZID=America/Chicago:20201113T173000
DTEND;TZID=America/Chicago:20201113T183000
LOCATION:
SUMMARY:Joyfully Healthy
END:VEVENT
END:VCALENDAR
