BEGIN:VCALENDAR
VERSION:2.0
PRODID:-//empowercdc.org//NONSGML kigkonsult.se iCalcreator 2.30.10//
CALSCALE:GREGORIAN
METHOD:PUBLISH
UID:fbe5b915-c0c3-4d24-9618-a4ce4c636861
X-WR-CALDESC:
X-WR-RELCALID:07eb8ec08cdb626097a8bfcc0d2b6a2d
X-WR-TIMEZONE:America/Chicago
BEGIN:VTIMEZONE
TZID:America/Chicago
BEGIN:STANDARD
TZNAME:CST
DTSTART:20201101T020000
TZOFFSETFROM:-0500
TZOFFSETTO:-0600
RDATE:20211107T020000
END:STANDARD
BEGIN:DAYLIGHT
TZNAME:CDT
DTSTART:20200308T020000
TZOFFSETFROM:-0600
TZOFFSETTO:-0500
RDATE:20210314T020000
RDATE:20220313T020000
END:DAYLIGHT
END:VTIMEZONE
BEGIN:VEVENT
UID:b2eb2f92-02c3-4989-8063-babab43ee30e
DTSTAMP:20260425T144539Z
DESCRIPTION:
DTSTART;TZID=America/Chicago:20201112T160000
DTEND;TZID=America/Chicago:20201112T170000
LOCATION:
SUMMARY:What Are You Thankful For?
END:VEVENT
END:VCALENDAR
