BEGIN:VCALENDAR
VERSION:2.0
PRODID:-//empowercdc.org//NONSGML kigkonsult.se iCalcreator 2.30.10//
CALSCALE:GREGORIAN
METHOD:PUBLISH
UID:01bb57c0-1e03-414d-97c3-4d161864b7e0
X-WR-CALDESC:
X-WR-RELCALID:5f9df92503262788bbcde8c59c83fac4
X-WR-TIMEZONE:America/Chicago
BEGIN:VTIMEZONE
TZID:America/Chicago
BEGIN:STANDARD
TZNAME:CST
DTSTART:20201101T020000
TZOFFSETFROM:-0500
TZOFFSETTO:-0600
RDATE:20211107T020000
END:STANDARD
BEGIN:DAYLIGHT
TZNAME:CDT
DTSTART:20200308T020000
TZOFFSETFROM:-0600
TZOFFSETTO:-0500
RDATE:20210314T020000
RDATE:20220313T020000
END:DAYLIGHT
END:VTIMEZONE
BEGIN:VEVENT
UID:ea8f8af4-0bd2-4e8f-ac0a-1e93e8c61268
DTSTAMP:20260425T143912Z
DESCRIPTION:
DTSTART;TZID=America/Chicago:20201110T160000
DTEND;TZID=America/Chicago:20201110T170000
LOCATION:
SUMMARY:EBH Virtual Meet and Greet
END:VEVENT
END:VCALENDAR
