BEGIN:VCALENDAR
VERSION:2.0
PRODID:-//empowercdc.org//NONSGML kigkonsult.se iCalcreator 2.30.10//
CALSCALE:GREGORIAN
METHOD:PUBLISH
UID:15f7e58d-8a1d-45e4-b480-44b294918dd0
X-WR-CALDESC:
X-WR-RELCALID:d865a2b9a6823e58ab0b8a1d4f585e38
X-WR-TIMEZONE:America/Chicago
BEGIN:VTIMEZONE
TZID:America/Chicago
BEGIN:STANDARD
TZNAME:CST
DTSTART:20201101T020000
TZOFFSETFROM:-0500
TZOFFSETTO:-0600
RDATE:20211107T020000
END:STANDARD
BEGIN:DAYLIGHT
TZNAME:CDT
DTSTART:20200308T020000
TZOFFSETFROM:-0600
TZOFFSETTO:-0500
RDATE:20210314T020000
RDATE:20220313T020000
END:DAYLIGHT
END:VTIMEZONE
BEGIN:VEVENT
UID:a0d9bd91-8178-46fe-b1c2-06f1c211a79b
DTSTAMP:20260425T144447Z
DESCRIPTION:
DTSTART;TZID=America/Chicago:20201109T000000
DTEND;TZID=America/Chicago:20201109T235900
LOCATION:
SUMMARY:Health & Nutrition Raffle Begins
END:VEVENT
END:VCALENDAR
